BEGIN:VCALENDAR
METHOD:REQUEST
PRODID:Microsoft Exchange Server 2010
VERSION:2.0
BEGIN:VTIMEZONE
TZID:Turkey Standard Time
BEGIN:STANDARD
DTSTART:16010101T000000
TZOFFSETFROM:+0300
TZOFFSETTO:+0300
END:STANDARD
BEGIN:DAYLIGHT
DTSTART:16010101T000000
TZOFFSETFROM:+0300
TZOFFSETTO:+0300
END:DAYLIGHT
END:VTIMEZONE
BEGIN:VEVENT
ORGANIZER;CN=Seda Akbulut:MAILTO:seda.akbulut@icann.org
ATTENDEE;ROLE=REQ-PARTICIPANT;PARTSTAT=NEEDS-ACTION;RSVP=TRUE;CN=Seda Akbul
 ut via UA-discuss:MAILTO:ua-discuss@icann.org
ATTACH:CID:3DCE92AF9E0F50469BEADB705162AADF@pexch112.icann.org
ATTACH:CID:ED8EA0D1C7DFE447B5E29F113CB9290A@pexch112.icann.org
DESCRIPTION;LANGUAGE=en-GB:Dear all\,\n\nYou are cordially invited to join 
 the ICANN81 Prep Week session about the Universal Acceptance Community Upd
 ate. You can find the session details below. Looking forward to meeting yo
 u all!\n\nThe meeting will start at 16:30 UTC\, 30 October 2024.\nPlease r
 egister on https://meetings.icann.org/en/meetings/icann81/.\nZoom link wil
 l be published on https://icann81.sched.com/event/1nJk3/universal-acceptan
 ce-ua-community-update.\n\nSession Details\nThis session will provide an u
 pdate on the ongoing UA work by the Universal Acceptance Steering Group (U
 ASG)\, Universal Acceptance Committee (UAC) of ccNSO\, and ICANN org to pr
 omote the Universal Acceptance (UA) of all domain names and email addresse
 s. UA is critical to achieving a more digitally inclusive and multilingual
  Internet. Those in DNS industry\, software developers\, email service pro
 viders\, and policy makers who want to reach their audiences using domain 
 names and email addresses in the language or script of their choice are en
 couraged to attend.\n\nThanks\,\nSeda\n
UID:7E4D1F21-4EDB-4393-ACD4-D53B83B361F4
SUMMARY;LANGUAGE=en-GB:Save the date: ICANN81 UA Community Update - Prep We
 ek Session
DTSTART;TZID=Turkey Standard Time:20241030T192000
DTEND;TZID=Turkey Standard Time:20241030T203000
CLASS:PUBLIC
PRIORITY:5
DTSTAMP:20241011T102936Z
TRANSP:OPAQUE
STATUS:CONFIRMED
SEQUENCE:1
CATEGORIES:Orange category
LOCATION;LANGUAGE=en-GB:https://icann81.sched.com/event/1nJk3/universal-acc
 eptance-ua-community-update
X-MICROSOFT-CDO-APPT-SEQUENCE:1
X-MICROSOFT-CDO-OWNERAPPTID:2122997516
X-MICROSOFT-CDO-BUSYSTATUS:TENTATIVE
X-MICROSOFT-CDO-INTENDEDSTATUS:BUSY
X-MICROSOFT-CDO-ALLDAYEVENT:FALSE
X-MICROSOFT-CDO-IMPORTANCE:1
X-MICROSOFT-CDO-INSTTYPE:0
X-MICROSOFT-DONOTFORWARDMEETING:FALSE
X-MICROSOFT-DISALLOW-COUNTER:FALSE
BEGIN:VALARM
DESCRIPTION:REMINDER
TRIGGER;RELATED=START:-PT15M
ACTION:DISPLAY
END:VALARM
END:VEVENT
END:VCALENDAR
