BEGIN:VCALENDAR
VERSION:2.0
PRODID:-//Microsoft Corporation//Outlook for Mac MIMEDIR//EN
METHOD:PUBLISH
BEGIN:VTIMEZONE
TZID:Coordinated Universal Time
X-ENTOURAGE-CFTIMEZONE:UTC
X-ENTOURAGE-TZID:93
BEGIN:STANDARD
TZOFFSETFROM:+0000
TZOFFSETTO:+0000
DTSTART:16010101T000000
END:STANDARD
END:VTIMEZONE
BEGIN:VEVENT
UID:88E62488-0B11-40C6-9EBB-48B0277A69AE
X-ENTOURAGE_UUID:88E62488-0B11-40C6-9EBB-48B0277A69AE
X-MICROSOFT-EXCHANGE-ID:AAMkADFlMDNlNjQ5LTNjNTUtNDJkMC04ZTI0LWFiMTFkOTgwND
 JhMQBGAAAAAAAdZPIZTDF9SJl4Q9bAl0gQBwAFskP3JLIoSYZSK2rNBQTXAIjV8WqdAACjhqXC
 SbKVRZwH7aZE5XhKAACJx5HqAAA=
X-MICROSOFT-EXCHANGE-CHANGEKEY:DwAAABYAAACjhqXCSbKVRZwH7aZE5XhKAACJzh/f
DTSTAMP:20210215T162957Z
DTSTART;TZID="Coordinated Universal Time":20210215T230000
DTEND;TZID="Coordinated Universal Time":20210216T003000
LAST-MODIFIED:20210215T163000Z
SUMMARY:LACRALO Monthly Call 
DESCRIPTION:**If you require a dial-out or need to state an apology\,
  please contact At-Large staff at staff@atlarge.icann.org with your
  preferred number.**\n\n \n\n \n\nDear All\,\n\n \n\nThe next LACRALO
  Monthly Call is scheduled for Monday\, 15 February 2021 at 23:00
  UTC.\n\n \n\nSpanish and Portuguese interpretations will be provided.
  French interpretation is subject to availability.\n\n \n\nFor other
  times: https://tinyurl.com/1vry6xf4 \n\n \n\nPlease note that the agenda
  (to be updated) and call details can be found at:
  https://community.icann.org/x/0gNtCQ \n\n \n\nWiki workspace:
  https://community.icann.org/x/NJQi\n\n \n\nADIGO Conference
  Bridge:\n\nEnglish Conference ID = 1638\n\nSpanish Conference ID =
  1738\n\nPortuguese Conference ID = 5393\n\nFrench Conference ID =
  1838\n\n \n\nToll-free access number (US and Canada): 800 550 6865\n\n
  \n\nOther toll-free numbers: http://adigo.com/icann/[adigo.com]\n\n
  \n\nZoom Room:
  https://icann.zoom.us/j/94755162424?pwd=N2J0cG43aUxLUVk3enNCbEt0UVd1UT09
   / Password: LAC-Mont02\n\n \n\n \n\n \n\nThank you. \n\nKind
  Regards\,\n\n \n\nICANN Policy Staff in support of the At-Large
  Community\n\nE-mail: staff@atlarge.icann.org\n\nWebsite:
  atlarge.icann.org\n\nFacebook: facebook.com/icannatlarge\n\nTwitter:
  @ICANNAtLarge\n
LOCATION:23:00 UTC - ADIGO EN:1638 ES:1738 FR:1838 PT:5393 -
  https://icann.zoom.us/j/94755162424?pwd=N2J0cG43aUxLUVk3enNCbEt0UVd1UT09
   
ORGANIZER:MAILTO:PolicyCalendar@icann.org
SEQUENCE:0
ATTENDEE;ROLE=REQ-PARTICIPANT;RSVP=FALSE;CN="Heidi
  Ullrich";PARTSTAT=NEEDS-ACTION:MAILTO:Heidi.Ullrich@icann.org
ATTENDEE;ROLE=REQ-PARTICIPANT;RSVP=FALSE;CN="Silvia
  Vivanco";PARTSTAT=NEEDS-ACTION:MAILTO:silvia.vivanco@icann.org
ATTENDEE;ROLE=REQ-PARTICIPANT;RSVP=FALSE;CN="Gisella
  Gruber";PARTSTAT=NEEDS-ACTION:MAILTO:Gisella.Gruber@icann.org
ATTENDEE;ROLE=REQ-PARTICIPANT;RSVP=FALSE;CN="Evin
  Erdogdu";PARTSTAT=NEEDS-ACTION:MAILTO:evin.erdogdu@icann.org
ATTENDEE;ROLE=REQ-PARTICIPANT;RSVP=FALSE;CN="Claudia
  Ruiz";PARTSTAT=NEEDS-ACTION:MAILTO:claudia.ruiz@icann.org
ATTENDEE;ROLE=REQ-PARTICIPANT;RSVP=FALSE;CN="Michelle
  DeSmyter";PARTSTAT=NEEDS-ACTION:MAILTO:michelle.desmyter@icann.org
ATTENDEE;ROLE=REQ-PARTICIPANT;RSVP=FALSE;CN="Yesim
  Nazlar";PARTSTAT=NEEDS-ACTION:MAILTO:yesim.nazlar@icann.org
ATTENDEE;ROLE=REQ-PARTICIPANT;RSVP=FALSE;CN=lac-discuss-en;PARTSTAT=NEEDS-
 ACTION:MAILTO:lac-discuss-en@atlarge-lists.icann.org
ATTENDEE;ROLE=REQ-PARTICIPANT;RSVP=FALSE;CN="Leon
  Sanchez";PARTSTAT=NEEDS-ACTION:MAILTO:leon.sanchez@board.icann.org
ATTENDEE;ROLE=REQ-PARTICIPANT;RSVP=FALSE;CN="TEL
  ES-Teleconf-Interpretation";PARTSTAT=NEEDS-ACTION:MAILTO:ES-Teleconf-Inte
 rpretation@icann.org
ATTENDEE;ROLE=REQ-PARTICIPANT;RSVP=FALSE;CN="TEL
  FR-Teleconf-Interpretation";PARTSTAT=NEEDS-ACTION:MAILTO:FR-Teleconf-Inte
 rpretation@icann.org
ATTENDEE;ROLE=REQ-PARTICIPANT;RSVP=FALSE;CN="Sabrina
  Mosquera";PARTSTAT=NEEDS-ACTION:MAILTO:sabrina.mosquera@icann.org
ATTENDEE;ROLE=REQ-PARTICIPANT;RSVP=FALSE;CN="Maria
  Vilardo";PARTSTAT=NEEDS-ACTION:MAILTO:maria.vilardo@icann.org
ATTENDEE;ROLE=REQ-PARTICIPANT;RSVP=FALSE;CN="Rodrigo de la
  Parra";PARTSTAT=NEEDS-ACTION:MAILTO:rodrigo.delaparra@icann.org
ATTENDEE;ROLE=REQ-PARTICIPANT;RSVP=FALSE;CN="Daniel
  Fink";PARTSTAT=NEEDS-ACTION:MAILTO:daniel.fink@icann.org
ATTENDEE;ROLE=REQ-PARTICIPANT;RSVP=FALSE;CN="Esperanza
  Clavell";PARTSTAT=NEEDS-ACTION:MAILTO:clavell.inteam.icann@gmail.com
ATTENDEE;ROLE=REQ-PARTICIPANT;RSVP=FALSE;CN="ESPERANZA CLAVEL
  (espe_29@yahoo.com)";PARTSTAT=NEEDS-ACTION:MAILTO:espe_29@yahoo.com
ATTENDEE;ROLE=REQ-PARTICIPANT;RSVP=FALSE;CN="Le��n
  Amb��a";PARTSTAT=NEEDS-ACTION:MAILTO:leonfelipe@sanchez.mx
ATTENDEE;ROLE=REQ-PARTICIPANT;RSVP=FALSE;CN="Albert
  Daniels";PARTSTAT=NEEDS-ACTION:MAILTO:albert.daniels@icann.org
X-MICROSOFT-CDO-BUSYSTATUS:BUSY
X-MICROSOFT-CDO-ALLDAYEVENT:FALSE
X-MICROSOFT-DISALLOW-COUNTER:FALSE
X-MICROSOFT-DONOTFORWARDMEETING:FALSE
X-MICROSOFT-CDO-INSTTYPE:0
BEGIN:VALARM
ACTION:DISPLAY
DESCRIPTION:REMINDER
TRIGGER;RELATED=START:-PT00H15M00S
END:VALARM
END:VEVENT
END:VCALENDAR
